{
 "fullExtent": {
  "ymin": 3445888.6925530937,
  "xmin": 4.045370480652297E7,
  "ymax": 3499087.374572328,
  "xmax": 4.051240909757557E7,
  "spatialReference": {
   "latestWKID": 4528,
   "wkid": 4528
  }
 },
 "capabilities": "Map",
 "supportsDynamicLayers": false,
 "maxScale": 0,
 "singleFusedMapCache": true,
 "tileInfo": {
  "lods": [
   {
    "level": 0,
    "scale": 500000,
    "resolution": 132.29166666666666
   },
   {
    "level": 1,
    "scale": 250000,
    "resolution": 66.14583333333333
   },
   {
    "level": 2,
    "scale": 125000,
    "resolution": 33.072916666666664
   },
   {
    "level": 3,
    "scale": 64000,
    "resolution": 16.93333333333333
   },
   {
    "level": 4,
    "scale": 32000,
    "resolution": 8.466666666666665
   },
   {
    "level": 5,
    "scale": 16000,
    "resolution": 4.2333333333333325
   },
   {
    "level": 6,
    "scale": 8000,
    "resolution": 2.1166666666666663
   }
  ],
  "origin": {
   "x": 4.045370480652297E7,
   "y": 3499087.374572328
  },
  "format": null,
  "rows": 256,
  "dpi": 96,
  "spatialReference": {
   "latestWKID": 4528,
   "wkid": 4528
  },
  "cols": 256
 },
 "description": null,
 "units": "esriMeters",
 "currentVersion": "10.21",
 "supportedImageFormatTypes": "PNG,JPG",
 "supportedQueryFormats": null,
 "initialExtent": {
  "ymin": 3455554.700229377,
  "xmin": 4.0466123618715934E7,
  "ymax": 3489421.366896044,
  "xmax": 4.0499990285382606E7,
  "spatialReference": {
   "latestWKID": 4528,
   "wkid": 4528
  }
 },
 "layers": [
  {
   "subLayerIds": [],
   "maxScale": 0,
   "name": "DOM_4528@DOM",
   "defaultVisibility": true,
   "id": 0,
   "minScale": 0,
   "parentLayerId": -1
  }
 ],
 "mapName": "DOM_4528@DOM",
 "minScale": 0,
 "spatialReference": {
  "latestWKID": 4528,
  "wkid": 4528
 }
}
